BEGIN:VCALENDAR
VERSION:2.0
PRODID:SchoolNow
CALSCALE:GREGORIAN
BEGIN:VEVENT
UID:ee03f122-1100-11f1-8790-0a58a9feac02
DTSTAMP:20260421T162511Z
SUMMARY:Black History Month Showcase
LOCATION:Auditorium
URL;VALUE=URI:https://www.op97.org/brooks/calendar/8867814/black-history-mo
 nth-showcase
DTSTART:20260227T171500Z
DTEND:20260227T190000Z
END:VEVENT
END:VCALENDAR
