BEGIN:VCALENDAR
VERSION:2.0
PRODID:SchoolNow
CALSCALE:GREGORIAN
BEGIN:VEVENT
UID:daff418c-1298-11f1-8274-0a58a9feac02
DTSTAMP:20260421T162511Z
SUMMARY:Bravo - Little Mermaid Rehearsal
LOCATION:AUDITORIUM
URL;VALUE=URI:https://www.op97.org/brooks/calendar/8871778/bravo-little-mer
 maid-rehearsal
DTSTART:20260227T213000Z
DTEND:20260228T000000Z
END:VEVENT
END:VCALENDAR
