BEGIN:VCALENDAR
VERSION:2.0
PRODID:SchoolNow
CALSCALE:GREGORIAN
BEGIN:VEVENT
UID:49364f24-1dc0-11f1-b9e0-0a58a9feac02
DTSTAMP:20260421T102011Z
SUMMARY:Incoming 6th Grade Student Tours
URL;VALUE=URI:https://www.op97.org/brooks/calendar/8911734/incoming-6th-gra
 de-student-tours
DTSTART:20260520T220000Z
DTEND:20260521T000000Z
END:VEVENT
END:VCALENDAR
