BEGIN:VCALENDAR
VERSION:2.0
PRODID:SchoolNow
CALSCALE:GREGORIAN
BEGIN:VEVENT
UID:4936712a-1dc0-11f1-9caf-0a58a9feac02
DTSTAMP:20260421T102011Z
SUMMARY:BROOKS Choir Concert
URL;VALUE=URI:https://www.op97.org/brooks/calendar/8911735/brooks-choir-con
 cert
DTSTART:20260520T000000Z
DTEND:20260520T010000Z
END:VEVENT
END:VCALENDAR
