BEGIN:VCALENDAR
VERSION:2.0
PRODID:SchoolNow
CALSCALE:GREGORIAN
BEGIN:VEVENT
UID:4a70eb10-1dc0-11f1-8b4e-0a58a9feac02
DTSTAMP:20260421T102011Z
SUMMARY:Incoming 6th Grade Virtual Information Night
URL;VALUE=URI:https://www.op97.org/brooks/calendar/8911736/incoming-6th-gra
 de-virtual-information-night
DTSTART:20260518T233000Z
DTEND:20260519T003000Z
END:VEVENT
END:VCALENDAR
