BEGIN:VCALENDAR
VERSION:2.0
PRODID:SchoolNow
CALSCALE:GREGORIAN
BEGIN:VEVENT
UID:431d0404-1e59-11f1-881a-0a58a9feac02
DTSTAMP:20260421T102012Z
SUMMARY:Track Practice
LOCATION:Turf Field
URL;VALUE=URI:https://www.op97.org/brooks/calendar/8913630/track-practice
DTSTART:20260312T203000Z
DTEND:20260312T214500Z
END:VEVENT
END:VCALENDAR
