BEGIN:VCALENDAR
VERSION:2.0
PRODID:SchoolNow
CALSCALE:GREGORIAN
BEGIN:VEVENT
UID:431d0c42-1e59-11f1-ab4a-0a58a9feac02
DTSTAMP:20260421T102012Z
SUMMARY:Track Practice
LOCATION:Turf Field
URL;VALUE=URI:https://www.op97.org/brooks/calendar/8913639/track-practice
DTSTART:20260330T203000Z
DTEND:20260330T214500Z
END:VEVENT
END:VCALENDAR
