BEGIN:VCALENDAR
VERSION:2.0
PRODID:SchoolNow
CALSCALE:GREGORIAN
BEGIN:VEVENT
UID:431d14ee-1e59-11f1-96cc-0a58a9feac02
DTSTAMP:20260421T102012Z
SUMMARY:Track Practice
LOCATION:Turf Field
URL;VALUE=URI:https://www.op97.org/brooks/calendar/8913649/track-practice
DTSTART:20260415T203000Z
DTEND:20260415T214500Z
END:VEVENT
END:VCALENDAR
