BEGIN:VCALENDAR
VERSION:2.0
PRODID:SchoolNow
CALSCALE:GREGORIAN
BEGIN:VEVENT
UID:031c1742-2321-11f1-9e50-0a58a9feac02
DTSTAMP:20260421T102011Z
SUMMARY:Boys Volleyball Game
URL;VALUE=URI:https://www.op97.org/brooks/calendar/8928885/boys-volleyball-
 game
DTSTART:20260428T211500Z
DTEND:20260428T231500Z
END:VEVENT
END:VCALENDAR
