BEGIN:VCALENDAR
VERSION:2.0
PRODID:SchoolNow
CALSCALE:GREGORIAN
BEGIN:VEVENT
UID:03cb4cc6-2321-11f1-b4ca-0a58a9feac02
DTSTAMP:20260421T102011Z
SUMMARY:Boys Volleyball Game
URL;VALUE=URI:https://www.op97.org/brooks/calendar/8928887/boys-volleyball-
 game
DTSTART:20260407T211500Z
DTEND:20260407T231500Z
END:VEVENT
END:VCALENDAR
