BEGIN:VCALENDAR
VERSION:2.0
PRODID:SchoolNow
CALSCALE:GREGORIAN
BEGIN:VEVENT
UID:b0f46a4e-2980-11f1-a15a-0affc1af43d7
DTSTAMP:20260421T102011Z
SUMMARY:Brooks Band Concert
URL;VALUE=URI:https://www.op97.org/brooks/calendar/8948742/brooks-band-conc
 ert
DTSTART:20260521T233000Z
DTEND:20260522T010000Z
END:VEVENT
END:VCALENDAR
