BEGIN:VCALENDAR
VERSION:2.0
PRODID:SchoolNow
CALSCALE:GREGORIAN
BEGIN:VEVENT
UID:2cec2948-33a9-11f1-8abf-0a58a9feac02
DTSTAMP:20260421T102011Z
SUMMARY:Bravo - Little Mermaid Rehearsal
LOCATION:AUDITORIUM
URL;VALUE=URI:https://www.op97.org/brooks/calendar/8980472/bravo-little-mer
 maid-rehearsal
DTSTART:20260418T133000Z
DTEND:20260418T220000Z
END:VEVENT
END:VCALENDAR
