BEGIN:VCALENDAR
VERSION:2.0
PRODID:SchoolNow
CALSCALE:GREGORIAN
BEGIN:VEVENT
UID:2cec6494-33a9-11f1-a508-0a58a9feac02
DTSTAMP:20260421T162511Z
SUMMARY:Middle School Connections
URL;VALUE=URI:https://www.op97.org/brooks/calendar/8980473/middle-school-co
 nnections
DTSTART:20260819T134500Z
DTEND:20260819T171500Z
END:VEVENT
END:VCALENDAR
