BEGIN:VCALENDAR
VERSION:2.0
PRODID:SchoolNow
CALSCALE:GREGORIAN
BEGIN:VEVENT
UID:2cec7128-33a9-11f1-9914-0a58a9feac02
DTSTAMP:20260421T102011Z
SUMMARY:Bravo - Little Mermaid Rehearsal
LOCATION:AUDITORIUM + D105
URL;VALUE=URI:https://www.op97.org/brooks/calendar/8980478/bravo-little-mer
 maid-rehearsal
DTSTART:20260417T150000Z
DTEND:20260418T000000Z
END:VEVENT
END:VCALENDAR
