BEGIN:VCALENDAR
VERSION:2.0
PRODID:SchoolNow
CALSCALE:GREGORIAN
BEGIN:VEVENT
UID:2db15448-33a9-11f1-b8f6-0a58a9feac02
DTSTAMP:20260421T162511Z
SUMMARY:Middle School Connections
URL;VALUE=URI:https://www.op97.org/brooks/calendar/8980479/middle-school-co
 nnections
DTSTART:20260818T134500Z
DTEND:20260818T171500Z
END:VEVENT
END:VCALENDAR
