BEGIN:VCALENDAR
VERSION:2.0
PRODID:SchoolNow
CALSCALE:GREGORIAN
BEGIN:VEVENT
UID:2dbdd45c-33a9-11f1-ad27-0a58a9feac02
DTSTAMP:20260421T162511Z
SUMMARY:Back to School Bash/Information Night
URL;VALUE=URI:https://www.op97.org/brooks/calendar/8980484/back-to-school-b
 ash-information-night
DTSTART:20260820T220000Z
DTEND:20260821T003000Z
END:VEVENT
END:VCALENDAR
