BEGIN:VCALENDAR
VERSION:2.0
PRODID:SchoolNow
CALSCALE:GREGORIAN
BEGIN:VEVENT
UID:193fe4a4-3541-11f1-b709-0e5d5f246efb
DTSTAMP:20260421T102011Z
SUMMARY:Special Olympics Track Meet
URL;VALUE=URI:https://www.op97.org/brooks/calendar/8985410/special-olympics
 -track-meet
DTSTART;VALUE=DATE:20260503
DTEND;VALUE=DATE:20260504
END:VEVENT
END:VCALENDAR
