BEGIN:VCALENDAR
VERSION:2.0
PRODID:SchoolNow
CALSCALE:GREGORIAN
BEGIN:VEVENT
UID:3cfdefa6-fc1f-11e9-a371-120d38d22dee
DTSTAMP:20191031T205009Z
SUMMARY:Code Fest
LOCATION:Oak Park Public Library
URL;VALUE=URI:https://www.op97.org/calendar/2137216/code-fest
DTSTART:20200123T000000Z
DTEND:20200123T013000Z
END:VEVENT
END:VCALENDAR
