BEGIN:VCALENDAR
VERSION:2.0
PRODID:SchoolNow
CALSCALE:GREGORIAN
BEGIN:VEVENT
UID:54a5071e-30ab-11ea-ab6f-12b96898ee25
DTSTAMP:20200106T173820Z
SUMMARY:Parent Information Session for 2020-21 Early Admission to Kindergar
 ten and First Grade
URL;VALUE=URI:https://www.op97.org/calendar/2171428/parent-information-sess
 ion-for-2020-21-early-admission-to-kindergarten-and-first-grade
DTSTART:20200123T003000Z
DTEND:20200123T013000Z
ATTACH;FILENAME=D97 K-1 Early Admission Flyer Parent Session 2020.pdf;FMTTY
 PE=application/pdf:https://campussuite-storage.s3.amazonaws.com/prod/73518
 1/c9be791c-b8dc-11e6-bf0d-22000bd8490f/2027059/43fe72ce-1dcd-11ea-9578-12e
 5ab10d127/file/D97 K-1 Early Admission Flyer Parent Session 2020.pdf
END:VEVENT
END:VCALENDAR
