BEGIN:VCALENDAR
VERSION:2.0
PRODID:SchoolNow
CALSCALE:GREGORIAN
BEGIN:VEVENT
UID:cab7306c-b70b-11ea-a4a7-0acc8effa653
DTSTAMP:20200625T174626Z
SUMMARY:Board Meeting
URL;VALUE=URI:https://www.op97.org/calendar/2268138/board-meeting
DTSTART:20210414T000000Z
DTEND:20210414T045900Z
END:VEVENT
END:VCALENDAR
