BEGIN:VCALENDAR
VERSION:2.0
PRODID:SchoolNow
CALSCALE:GREGORIAN
BEGIN:VEVENT
UID:cf2389b6-b70b-11ea-b4ba-0acc8effa653
DTSTAMP:20210428T000751Z
SUMMARY:Board Meeting
URL;VALUE=URI:https://www.op97.org/calendar/2268139/board-meeting
DTSTART:20210428T000000Z
DTEND:20210428T045900Z
END:VEVENT
END:VCALENDAR
