BEGIN:VCALENDAR
VERSION:2.0
PRODID:SchoolNow
CALSCALE:GREGORIAN
BEGIN:VEVENT
UID:d7501ab4-b70b-11ea-8609-0acc8effa653
DTSTAMP:20200625T174647Z
SUMMARY:Board Meeting
URL;VALUE=URI:https://www.op97.org/calendar/2268140/board-meeting
DTSTART:20210512T000000Z
DTEND:20210512T045900Z
END:VEVENT
END:VCALENDAR
