BEGIN:VCALENDAR
VERSION:2.0
PRODID:SchoolNow
CALSCALE:GREGORIAN
BEGIN:VEVENT
UID:e20d1aec-b70b-11ea-94ba-0acc8effa653
DTSTAMP:20200625T174705Z
SUMMARY:Board Meeting
URL;VALUE=URI:https://www.op97.org/calendar/2268141/board-meeting
DTSTART:20210526T000000Z
DTEND:20210526T045900Z
END:VEVENT
END:VCALENDAR
