BEGIN:VCALENDAR
VERSION:2.0
PRODID:SchoolNow
CALSCALE:GREGORIAN
BEGIN:VEVENT
UID:f3eb617e-b70b-11ea-8c32-0acc8effa653
DTSTAMP:20200625T174735Z
SUMMARY:Board Meeting
URL;VALUE=URI:https://www.op97.org/calendar/2268143/board-meeting
DTSTART:20210714T000000Z
DTEND:20210714T045900Z
END:VEVENT
END:VCALENDAR
