BEGIN:VCALENDAR
VERSION:2.0
PRODID:SchoolNow
CALSCALE:GREGORIAN
BEGIN:VEVENT
UID:f98da3f8-b70b-11ea-b43b-0acc8effa653
DTSTAMP:20200625T174744Z
SUMMARY:Board Meeting
URL;VALUE=URI:https://www.op97.org/calendar/2268144/board-meeting
DTSTART:20210811T000000Z
DTEND:20210811T045900Z
END:VEVENT
END:VCALENDAR
