BEGIN:VCALENDAR
VERSION:2.0
PRODID:SchoolNow
CALSCALE:GREGORIAN
BEGIN:VEVENT
UID:69923658-ba24-11ea-b4bd-0a61479fe3cd
DTSTAMP:20200915T155015Z
SUMMARY:End of Trimester 3
URL;VALUE=URI:https://www.op97.org/calendar/2270509/end-of-trimester-3
DTSTART:20210610T050000Z
DTEND:20210611T045900Z
END:VEVENT
END:VCALENDAR
