BEGIN:VCALENDAR
VERSION:2.0
PRODID:SchoolNow
CALSCALE:GREGORIAN
BEGIN:VEVENT
UID:48c5312c-ba25-11ea-a3cb-1284b9ea766f
DTSTAMP:20210519T233631Z
SUMMARY:Middle School Report Card Distribution for Trimester 3
URL;VALUE=URI:https://www.op97.org/calendar/2270530/report-distribution-for
 -trimester-three
DTSTART;VALUE=DATE:20210615
DTEND;VALUE=DATE:20210616
END:VEVENT
END:VCALENDAR
