BEGIN:VCALENDAR
VERSION:2.0
PRODID:SchoolNow
CALSCALE:GREGORIAN
BEGIN:VEVENT
UID:a9ec19a2-9d46-11eb-a91e-026c38758dcb
DTSTAMP:20210414T172718Z
SUMMARY:Special Board Meeting
URL;VALUE=URI:https://www.op97.org/calendar/2577066/special-board-meeting-0
 41521
DTSTART:20210416T003000Z
DTEND:20210416T020000Z
END:VEVENT
END:VCALENDAR
