BEGIN:VCALENDAR
VERSION:2.0
PRODID:SchoolNow
CALSCALE:GREGORIAN
BEGIN:VEVENT
UID:257f5c36-a24d-11eb-b3cf-0e097f54ecad
DTSTAMP:20210421T025619Z
SUMMARY:CLAIM Virtual Legislators Forum
URL;VALUE=URI:https://www.op97.org/calendar/2583344/claim-virtual-legislato
 rs-forum-april-2021
DTSTART:20210429T003000Z
DTEND:20210429T023000Z
END:VEVENT
END:VCALENDAR
