BEGIN:VCALENDAR
VERSION:2.0
PRODID:SchoolNow
CALSCALE:GREGORIAN
BEGIN:VEVENT
UID:7e28f3e6-b8ab-11eb-95fb-0e71b1d41b77
DTSTAMP:20210519T140706Z
SUMMARY:The Asian American Experience: Community Education Event
URL;VALUE=URI:https://www.op97.org/calendar/2602204/the-asian-american-expe
 rience-community-education-event
DTSTART:20210521T000000Z
DTEND:20210521T013000Z
END:VEVENT
END:VCALENDAR
