BEGIN:VCALENDAR
VERSION:2.0
PRODID:SchoolNow
CALSCALE:GREGORIAN
BEGIN:VEVENT
UID:1afdb572-b8fb-11eb-b3df-0abb0e82bb9f
DTSTAMP:20210519T233659Z
SUMMARY:Elementary School Report Card Distribution for Trimester 3
URL;VALUE=URI:https://www.op97.org/calendar/2602850/elementary-school-repor
 t-card-distribution-for-trimester-3
DTSTART;VALUE=DATE:20210610
DTEND;VALUE=DATE:20210611
END:VEVENT
END:VCALENDAR
