BEGIN:VCALENDAR
VERSION:2.0
PRODID:SchoolNow
CALSCALE:GREGORIAN
BEGIN:VEVENT
UID:2728dcc8-d51b-11eb-aa36-0a525f129831
DTSTAMP:20210624T183656Z
SUMMARY:Special Board Meeting
URL;VALUE=URI:https://www.op97.org/calendar/2626787/special-board-meeting-0
 62921
DTSTART:20210629T230000Z
DTEND:20210630T013000Z
END:VEVENT
END:VCALENDAR
