BEGIN:VCALENDAR
VERSION:2.0
PRODID:SchoolNow
CALSCALE:GREGORIAN
BEGIN:VEVENT
UID:79e135ec-de93-11eb-9701-0a86142f0b85
DTSTAMP:20210706T195055Z
SUMMARY:Parent-Teacher Conferences - Half Day (AM Only)
URL;VALUE=URI:https://www.op97.org/calendar/2635360/parent-teacher-conferen
 ces-half-day-am-only-102121
DTSTART;VALUE=DATE:20211021
DTEND;VALUE=DATE:20211022
END:VEVENT
END:VCALENDAR
