BEGIN:VCALENDAR
VERSION:2.0
PRODID:SchoolNow
CALSCALE:GREGORIAN
BEGIN:VEVENT
UID:e1b1ede2-de93-11eb-8986-0a86142f0b85
DTSTAMP:20210706T195349Z
SUMMARY:Parent-Teacher Conferences - Half Day (AM Only)
URL;VALUE=URI:https://www.op97.org/calendar/2635371/parent-teacher-conferen
 ces-half-day-am-only-102221
DTSTART;VALUE=DATE:20211022
DTEND;VALUE=DATE:20211023
END:VEVENT
END:VCALENDAR
