BEGIN:VCALENDAR
VERSION:2.0
PRODID:SchoolNow
CALSCALE:GREGORIAN
BEGIN:VEVENT
UID:5bdb4d1e-de96-11eb-a9ef-0a86142f0b85
DTSTAMP:20210706T201133Z
SUMMARY:Institute Day - No School
URL;VALUE=URI:https://www.op97.org/calendar/2635438/teacher-institute-dayno
 -school-110221
DTSTART;VALUE=DATE:20211102
DTEND;VALUE=DATE:20211103
END:VEVENT
END:VCALENDAR
