BEGIN:VCALENDAR
VERSION:2.0
PRODID:SchoolNow
CALSCALE:GREGORIAN
BEGIN:VEVENT
UID:b6cfd460-de96-11eb-93ba-0a86142f0b85
DTSTAMP:20210706T201405Z
SUMMARY:Institute Day - No School
URL;VALUE=URI:https://www.op97.org/calendar/2635455/teacher-institute-dayno
 -school-031522
DTSTART;VALUE=DATE:20220315
DTEND;VALUE=DATE:20220316
END:VEVENT
END:VCALENDAR
