BEGIN:VCALENDAR
VERSION:2.0
PRODID:SchoolNow
CALSCALE:GREGORIAN
BEGIN:VEVENT
UID:3f8142e8-de98-11eb-84e0-0a86142f0b85
DTSTAMP:20210706T202504Z
SUMMARY:No School- Thanksgiving Break
URL;VALUE=URI:https://www.op97.org/calendar/2635496/no-school-thanksgiving-
 break-112421
DTSTART;VALUE=DATE:20211124
DTEND;VALUE=DATE:20211127
END:VEVENT
END:VCALENDAR
