BEGIN:VCALENDAR
VERSION:2.0
PRODID:SchoolNow
CALSCALE:GREGORIAN
BEGIN:VEVENT
UID:603f9920-de99-11eb-ba2a-0a95bb28d3d3
DTSTAMP:20210706T203309Z
SUMMARY:No School - Winter Break
URL;VALUE=URI:https://www.op97.org/calendar/2635507/no-school-winter-break-
 122021
DTSTART;VALUE=DATE:20211220
DTEND;VALUE=DATE:20220104
END:VEVENT
END:VCALENDAR
