BEGIN:VCALENDAR
VERSION:2.0
PRODID:SchoolNow
CALSCALE:GREGORIAN
BEGIN:VEVENT
UID:5dc8306e-de9c-11eb-a7d4-0a95bb28d3d3
DTSTAMP:20210706T205433Z
SUMMARY:Spring Break - No School
URL;VALUE=URI:https://www.op97.org/calendar/2635551/spring-break-no-school-
 2021-032822
DTSTART;VALUE=DATE:20220328
DTEND;VALUE=DATE:20220402
END:VEVENT
END:VCALENDAR
