BEGIN:VCALENDAR
VERSION:2.0
PRODID:SchoolNow
CALSCALE:GREGORIAN
BEGIN:VEVENT
UID:07cfba04-de9e-11eb-bf96-0a95bb28d3d3
DTSTAMP:20210706T210628Z
SUMMARY:1st Trimester Report Card Distribution
URL;VALUE=URI:https://www.op97.org/calendar/2635595/1st-trimester-report-ca
 rd-distribution-121021
DTSTART;VALUE=DATE:20211210
DTEND;VALUE=DATE:20211211
END:VEVENT
END:VCALENDAR
