BEGIN:VCALENDAR
VERSION:2.0
PRODID:SchoolNow
CALSCALE:GREGORIAN
BEGIN:VEVENT
UID:50c9858c-de9e-11eb-9285-0a95bb28d3d3
DTSTAMP:20210706T210830Z
SUMMARY:2nd Trimester Ends
URL;VALUE=URI:https://www.op97.org/calendar/2635606/2nd-trimester-ends-0303
 22
DTSTART;VALUE=DATE:20220303
DTEND;VALUE=DATE:20220304
END:VEVENT
END:VCALENDAR
