BEGIN:VCALENDAR
VERSION:2.0
PRODID:SchoolNow
CALSCALE:GREGORIAN
BEGIN:VEVENT
UID:a77440a2-de9e-11eb-b27b-0a95bb28d3d3
DTSTAMP:20210706T211056Z
SUMMARY:2nd Trimester Report Card Distribution
URL;VALUE=URI:https://www.op97.org/calendar/2635618/report-card-distributio
 n-for-trimester-two-031822
DTSTART;VALUE=DATE:20220318
DTEND;VALUE=DATE:20220319
END:VEVENT
END:VCALENDAR
