BEGIN:VCALENDAR
VERSION:2.0
PRODID:SchoolNow
CALSCALE:GREGORIAN
BEGIN:VEVENT
UID:3cd06644-f56a-11eb-9cd3-0e60e203b26f
DTSTAMP:20210804T212340Z
SUMMARY:Board Meeting
URL;VALUE=URI:https://www.op97.org/calendar/2655314/board-meeting-091421
DTSTART:20210915T000000Z
DTEND:20210915T045900Z
END:VEVENT
END:VCALENDAR
