BEGIN:VCALENDAR
VERSION:2.0
PRODID:SchoolNow
CALSCALE:GREGORIAN
BEGIN:VEVENT
UID:6f0a062e-f56a-11eb-9c58-0e60e203b26f
DTSTAMP:20210915T142722Z
SUMMARY:Board Meeting
URL;VALUE=URI:https://www.op97.org/calendar/2655318/board-meeting-111621
DTSTART:20211117T010000Z
DTEND:20211117T055900Z
END:VEVENT
END:VCALENDAR
