BEGIN:VCALENDAR
VERSION:2.0
PRODID:SchoolNow
CALSCALE:GREGORIAN
BEGIN:VEVENT
UID:75ae6984-f56a-11eb-96dc-0e60e203b26f
DTSTAMP:20211029T185030Z
SUMMARY:Special Board Meeting
URL;VALUE=URI:https://www.op97.org/calendar/2655319/board-meeting-113021
DTSTART:20211201T000000Z
DTEND:20211201T045900Z
END:VEVENT
END:VCALENDAR
