BEGIN:VCALENDAR
VERSION:2.0
PRODID:SchoolNow
CALSCALE:GREGORIAN
BEGIN:VEVENT
UID:7b1cf17e-f56a-11eb-9d37-0e60e203b26f
DTSTAMP:20210915T142816Z
SUMMARY:Board Meeting
URL;VALUE=URI:https://www.op97.org/calendar/2655321/board-meeting-121421
DTSTART:20211215T010000Z
DTEND:20211215T055900Z
END:VEVENT
END:VCALENDAR
