BEGIN:VCALENDAR
VERSION:2.0
PRODID:SchoolNow
CALSCALE:GREGORIAN
BEGIN:VEVENT
UID:811a1b38-f56a-11eb-8a23-0e60e203b26f
DTSTAMP:20210915T142830Z
SUMMARY:Board Meeting
URL;VALUE=URI:https://www.op97.org/calendar/2655322/board-meeting-011122
DTSTART:20220112T010000Z
DTEND:20220112T055900Z
END:VEVENT
END:VCALENDAR
