BEGIN:VCALENDAR
VERSION:2.0
PRODID:SchoolNow
CALSCALE:GREGORIAN
BEGIN:VEVENT
UID:8d88b41a-f56a-11eb-b47d-0e60e203b26f
DTSTAMP:20210915T142851Z
SUMMARY:Board Meeting
URL;VALUE=URI:https://www.op97.org/calendar/2655323/board-meeting-012522
DTSTART:20220126T010000Z
DTEND:20220126T055900Z
END:VEVENT
END:VCALENDAR
