BEGIN:VCALENDAR
VERSION:2.0
PRODID:SchoolNow
CALSCALE:GREGORIAN
BEGIN:VEVENT
UID:9954d922-f56a-11eb-be93-0e60e203b26f
DTSTAMP:20210915T142910Z
SUMMARY:Board Meeting
URL;VALUE=URI:https://www.op97.org/calendar/2655324/board-meeting-020822
DTSTART:20220209T010000Z
DTEND:20220209T055900Z
END:VEVENT
END:VCALENDAR
