BEGIN:VCALENDAR
VERSION:2.0
PRODID:SchoolNow
CALSCALE:GREGORIAN
BEGIN:VEVENT
UID:b90e68d2-f56a-11eb-9c9f-0e60e203b26f
DTSTAMP:20210915T143021Z
SUMMARY:Board Meeting
URL;VALUE=URI:https://www.op97.org/calendar/2655329/board-meeting-042622
DTSTART:20220427T000000Z
DTEND:20220427T045900Z
END:VEVENT
END:VCALENDAR
